BEGIN:VCALENDAR
VERSION:2.0
PRODID:-//http://wcb.org.nz//NONSGML kigkonsult.se iCalcreator 2.18//
METHOD:PUBLISH
X-WR-CALNAME:JCal Pro Calendar
X-WR-CALDESC:Your online events calendar
X-WR-TIMEZONE:Pacific/Auckland
BEGIN:VEVENT
UID:20130810T213000UTC-cb80df@http://wcb.org.nz/
DTSTAMP:20191221T125422Z
DESCRIPTION:Starting with cafe time until 10.00<br /><strong>Baptism Servic
 e</strong><br />Pastor Nigel Irwin is speaking:<br />'Born Twice to Die On
 ce'
DTSTART;TZID=Pacific/Auckland:20130811T093000
DTEND;TZID=Pacific/Auckland:20130811T120000
SUMMARY:Sunday Family Worship Service
URL:http://wcb.org.nz/events/diary/16-general/280-sunday-family-worship-ser
 vice
END:VEVENT
END:VCALENDAR
